BEGIN:VCALENDAR
VERSION:2.0
BEGIN:VEVENT
DTSTART;TZID=Europe/Stockholm:20291002T090000
DTEND;TZID=Europe/Stockholm:20291002T100000
DTSTAMP:20260424T094200
DESCRIPTION:Kyrkan öppen för dig som vill:
Tända ett ljus, samtala,
be en bön, vara i stillhet
SEQUENCE:0
SUMMARY:Öppen kyrka
UID:7392@lawebb.se
END:VEVENT
END:VCALENDAR