BEGIN:VCALENDAR
VERSION:2.0
BEGIN:VEVENT
DTSTART;TZID=Europe/Stockholm:20290612T090000
DTEND;TZID=Europe/Stockholm:20290612T100000
DTSTAMP:20260424T035132
DESCRIPTION:Kyrkan öppen för dig som vill:
Tända ett ljus, samtala,
be en bön, vara i stillhet
SEQUENCE:0
SUMMARY:Öppen kyrka
UID:6849@lawebb.se
END:VEVENT
END:VCALENDAR