BEGIN:VCALENDAR
VERSION:2.0
BEGIN:VEVENT
DTSTART;TZID=Europe/Stockholm:20281121T090000
DTEND;TZID=Europe/Stockholm:20281121T100000
DTSTAMP:20260423T184503
DESCRIPTION:Kyrkan öppen för dig som vill:
Tända ett ljus, samtala,
be en bön, vara i stillhet
SEQUENCE:0
SUMMARY:Öppen kyrka
UID:4748@lawebb.se
END:VEVENT
END:VCALENDAR