BEGIN:VCALENDAR
VERSION:2.0
BEGIN:VEVENT
DTSTART;TZID=Europe/Stockholm:20280502T090000
DTEND;TZID=Europe/Stockholm:20280502T100000
DTSTAMP:20260423T111851
DESCRIPTION:Kyrkan öppen för dig som vill:
Tända ett ljus, samtala,
be en bön, vara i stillhet
SEQUENCE:0
SUMMARY:Öppen kyrka
UID:8784@lawebb.se
END:VEVENT
END:VCALENDAR