BEGIN:VCALENDAR
VERSION:2.0
BEGIN:VEVENT
DTSTART;TZID=Europe/Stockholm:20240604T140000
DTEND;TZID=Europe/Stockholm:20240604T150000
DTSTAMP:20260420T095256
DESCRIPTION:Varmt välkommen till fika och en stunds gemenskap med samtal om livet
SEQUENCE:0
SUMMARY:Livets Café
UID:2966@lawebb.se
END:VEVENT
END:VCALENDAR