BEGIN:VCALENDAR
VERSION:2.0
BEGIN:VEVENT
DTSTART;TZID=Europe/Stockholm:20240604T090000
DTEND;TZID=Europe/Stockholm:20240604T100000
DTSTAMP:20260420T102101
DESCRIPTION:Kyrkan öppen för dig som vill:
Tända ett ljus, samtala,
be en bön, vara i stillhet
SEQUENCE:0
SUMMARY:Öppen kyrka
UID:2766@lawebb.se
END:VEVENT
END:VCALENDAR