BEGIN:VCALENDAR
VERSION:2.0
BEGIN:VEVENT
DTSTART;TZID=Europe/Stockholm:20260922T090000
DTEND;TZID=Europe/Stockholm:20260922T100000
DTSTAMP:20260420T101143
DESCRIPTION:Kyrkan öppen för dig som vill:
Tända ett ljus, samtala,
be en bön, vara i stillhet
SEQUENCE:0
SUMMARY:Öppen kyrka
UID:5784@lawebb.se
END:VEVENT
END:VCALENDARBEGIN:VCALENDAR
VERSION:2.0
BEGIN:VEVENT
DTSTART;TZID=Europe/Stockholm:20221129T090000
DTEND;TZID=Europe/Stockholm:20221129T100000
DTSTAMP:20260420T221814
DESCRIPTION:Kyrkan öppen för dig som vill:
Tända ett ljus, samtala,
be en bön, vara i stillhet
SEQUENCE:0
SUMMARY:Öppen kyrka
UID:8982@lawebb.se
END:VEVENT
END:VCALENDAR