BEGIN:VCALENDAR
VERSION:2.0
BEGIN:VEVENT
DTSTART;TZID=Europe/Stockholm:20221120T190000
DTEND;TZID=Europe/Stockholm:20221120T200000
DTSTAMP:20260420T221745
DESCRIPTION:Kyrkan öppen för dig som vill:
Tända ett ljus, samtala,
be en bön, vara i stillhet
Känn dig varmt välkommen!
SEQUENCE:0
SUMMARY:Öppen kyrka
UID:9358@lawebb.se
END:VEVENT
END:VCALENDAR