BEGIN:VCALENDAR
VERSION:2.0
BEGIN:VEVENT
DTSTART;TZID=Europe/Stockholm:20400904T090000
DTEND;TZID=Europe/Stockholm:20400904T100000
DTSTAMP:20260420T083502
DESCRIPTION:Kyrkan öppen för dig som vill:
Tända ett ljus, samtala,
be en bön, vara i stillhet
SEQUENCE:0
SUMMARY:Öppen kyrka
UID:7749@lawebb.se
END:VEVENT
END:VCALENDARBEGIN:VCALENDAR
VERSION:2.0
BEGIN:VEVENT
DTSTART;TZID=Europe/Stockholm:20221115T090000
DTEND;TZID=Europe/Stockholm:20221115T100000
DTSTAMP:20260420T221847
DESCRIPTION:Kyrkan öppen för dig som vill:
Tända ett ljus, samtala,
be en bön, vara i stillhet
SEQUENCE:0
SUMMARY:Öppen kyrka
UID:2742@lawebb.se
END:VEVENT
END:VCALENDAR