BEGIN:VCALENDAR
VERSION:2.0
BEGIN:VEVENT
DTSTART;TZID=Europe/Stockholm:20221106T190000
DTEND;TZID=Europe/Stockholm:20221106T200000
DTSTAMP:20260420T221422
DESCRIPTION:Kyrkan öppen för dig som vill:
Tända ett ljus, samtala,
be en bön, vara i stillhet
Känn dig varmt välkommen!
SEQUENCE:0
SUMMARY:Öppen kyrka
UID:9292@lawebb.se
END:VEVENT
END:VCALENDAR