BEGIN:VCALENDAR
VERSION:2.0
BEGIN:VEVENT
DTSTART;TZID=Europe/Stockholm:20640429T090000
DTEND;TZID=Europe/Stockholm:20640429T100000
DTSTAMP:20260420T114635
DESCRIPTION:Kyrkan öppen för dig som vill:
Tända ett ljus, samtala,
be en bön, vara i stillhet
SEQUENCE:0
SUMMARY:Öppen kyrka
UID:7386@lawebb.se
END:VEVENT
END:VCALENDARBEGIN:VCALENDAR
VERSION:2.0
BEGIN:VEVENT
DTSTART;TZID=Europe/Stockholm:20221002T190000
DTEND;TZID=Europe/Stockholm:20221002T200000
DTSTAMP:20260420T205036
DESCRIPTION:Kyrkan öppen för dig som vill:
Tända ett ljus, samtala,
be en bön, vara i stillhet
Känn dig varmt välkommen!
SEQUENCE:0
SUMMARY:Öppen kyrka
UID:9847@lawebb.se
END:VEVENT
END:VCALENDAR